BEGIN:VCALENDAR
VERSION:2.0
PRODID:-//Selvhjelp Norge - ECPv6.15.20//NONSGML v1.0//EN
CALSCALE:GREGORIAN
METHOD:PUBLISH
X-ORIGINAL-URL:https://www.selvhjelp.no
X-WR-CALDESC:Arrangement for Selvhjelp Norge
REFRESH-INTERVAL;VALUE=DURATION:PT1H
X-Robots-Tag:noindex
X-PUBLISHED-TTL:PT1H
BEGIN:VTIMEZONE
TZID:Europe/Oslo
BEGIN:DAYLIGHT
TZOFFSETFROM:+0100
TZOFFSETTO:+0200
TZNAME:CEST
DTSTART:20210328T010000
END:DAYLIGHT
BEGIN:STANDARD
TZOFFSETFROM:+0200
TZOFFSETTO:+0100
TZNAME:CET
DTSTART:20211031T010000
END:STANDARD
BEGIN:DAYLIGHT
TZOFFSETFROM:+0100
TZOFFSETTO:+0200
TZNAME:CEST
DTSTART:20220327T010000
END:DAYLIGHT
BEGIN:STANDARD
TZOFFSETFROM:+0200
TZOFFSETTO:+0100
TZNAME:CET
DTSTART:20221030T010000
END:STANDARD
BEGIN:DAYLIGHT
TZOFFSETFROM:+0100
TZOFFSETTO:+0200
TZNAME:CEST
DTSTART:20230326T010000
END:DAYLIGHT
BEGIN:STANDARD
TZOFFSETFROM:+0200
TZOFFSETTO:+0100
TZNAME:CET
DTSTART:20231029T010000
END:STANDARD
END:VTIMEZONE
BEGIN:VEVENT
DTSTART;TZID=Europe/Oslo:20221129T100000
DTEND;TZID=Europe/Oslo:20221130T160000
DTSTAMP:20260420T031506
CREATED:20221005T115518Z
LAST-MODIFIED:20221005T115627Z
UID:10000108-1669716000-1669824000@www.selvhjelp.no
SUMMARY:Sandnes: Seminar om selvhjelp og oppstart av selvorganiserte selvhjelpsgrupper
DESCRIPTION:Vi ønsker velkommen til seminar om selvhjelp og oppstart av selvorganiserte selvhjelpsgrupper i Sandnes. \nPå seminaret vil du få innsikt i hvorfor og hvordan selvhjelp kan være nyttig kunnskap for økt mestring av livet. Du vil også lære om selvhjelpsgrupper og hvordan slike fellesskap kan startes opp. Videre vil vi snakke om muligheter for samarbeid lokalt. \nKurset er for deg som ønsker å bruke selvhjelp i eget liv\, og for deg som er nysgjerrig på hva en selvhjelpsgruppe er – enten for å gå i en gruppe selv eller etablere en gruppe for andre. \nSeminaret går over to dager – det er nødvendig å delta begge dagene! \nTemaer: \n\nHvorfor selvhjelp og selvorganiserte selvhjelpsgrupper?\nHva er selvhjelpens bærende elementer?- Innhold i selvhjelpsarbeidet\nHvordan utvikle muligheten lokalt?- Oppstart av selvhjelpsgrupper\nIgangsetterrollen – Bidra til god oppstart\n\nPåmelding: innen fredag 25. november her. \nDet er gratis å delta! \nFor spørsmål kontakt Kari Kastmann på e-post: karik@selvhjelp.no eller telefon 981 02 067. \nLast opp invitasjonen her.
URL:https://www.selvhjelp.no/arrangement/sandnes-seminar-om-selvhjelp-og-oppstart-av-selvorganiserte-selvhjelpsgrupper/
LOCATION:Selvhjelp Norges distriktskontor for Rogaland og Agder\, Eidsvollgata 47 A\, Sandnes\, 4307\, Norway
CATEGORIES:Rogaland
ATTACH;FMTTYPE=image/jpeg:https://www.selvhjelp.no/wp-content/uploads/2022/04/Depositphotos_546402962_XL-scaled.jpg
ORGANIZER;CN="Selvhjelp Norge v/Kari Kastmann":MAILTO:karik@selvhjelp.no
END:VEVENT
END:VCALENDAR