BEGIN:VCALENDAR
VERSION:2.0
PRODID:-//Selvhjelp Norge - ECPv6.15.20//NONSGML v1.0//EN
CALSCALE:GREGORIAN
METHOD:PUBLISH
X-ORIGINAL-URL:https://www.selvhjelp.no
X-WR-CALDESC:Arrangement for Selvhjelp Norge
REFRESH-INTERVAL;VALUE=DURATION:PT1H
X-Robots-Tag:noindex
X-PUBLISHED-TTL:PT1H
BEGIN:VTIMEZONE
TZID:Europe/Oslo
BEGIN:DAYLIGHT
TZOFFSETFROM:+0100
TZOFFSETTO:+0200
TZNAME:CEST
DTSTART:20210328T010000
END:DAYLIGHT
BEGIN:STANDARD
TZOFFSETFROM:+0200
TZOFFSETTO:+0100
TZNAME:CET
DTSTART:20211031T010000
END:STANDARD
BEGIN:DAYLIGHT
TZOFFSETFROM:+0100
TZOFFSETTO:+0200
TZNAME:CEST
DTSTART:20220327T010000
END:DAYLIGHT
BEGIN:STANDARD
TZOFFSETFROM:+0200
TZOFFSETTO:+0100
TZNAME:CET
DTSTART:20221030T010000
END:STANDARD
BEGIN:DAYLIGHT
TZOFFSETFROM:+0100
TZOFFSETTO:+0200
TZNAME:CEST
DTSTART:20230326T010000
END:DAYLIGHT
BEGIN:STANDARD
TZOFFSETFROM:+0200
TZOFFSETTO:+0100
TZNAME:CET
DTSTART:20231029T010000
END:STANDARD
END:VTIMEZONE
BEGIN:VEVENT
DTSTART;TZID=Europe/Oslo:20221208T170000
DTEND;TZID=Europe/Oslo:20221208T190000
DTSTAMP:20260420T014913
CREATED:20221124T081517Z
LAST-MODIFIED:20221124T090957Z
UID:10000067-1670518800-1670526000@www.selvhjelp.no
SUMMARY:Arendal: Har du barn som strever med stort skolefravær?
DESCRIPTION:Velkommen til informasjonsmøte \nDet er utfordrende å være nær et barn eller ungdom som av forskjellige grunner sliter med å møte opp på skolen. Mange har kjent på hva det gjør med egen helse når det er utfordringer knyttet til barnas trivsel og deltagelse i skolehverdagen. Vi ser at stadig flere pårørende danner selvhjelpsgrupper og opplever å ha stort utbytte av et slikt felleskap \nTemaer for møtet:  \n\nPårørenderollen\nHva er selvhjelp?\nInformasjon om foreldregrupper/pårørendegrupper\n\nDet blir mulighet for å melde seg på en gruppe. \nFor spørsmål ta kontakt med Kari Kastmann på karik@selvhjelp.no eller telefon 981 02 067. \nPåmelding innen tirsdag 6. desember til karik@selvhjelp.no. \nMøtet arrangeres av Selvhjelp Norge i samarbeid med Familietjenesten i Arendal og Mona som selv har vært pårørende og har erfaring fra selvhjelpsgruppe. \nLast opp invitasjonen her. \n 
URL:https://www.selvhjelp.no/arrangement/arendal-har-du-barn-som-strever-med-stort-skolefravaer/
LOCATION:Kulturkammeret\, Nedre Tyholmsvei 6\, Arendal\, 4836\, Norway
CATEGORIES:Agder
ATTACH;FMTTYPE=image/jpeg:https://www.selvhjelp.no/wp-content/uploads/2022/02/Trist-gutt_2-scaled.jpg
ORGANIZER;CN="Selvhjelp Norge v/Kari Kastmann":MAILTO:karik@selvhjelp.no
END:VEVENT
END:VCALENDAR