BEGIN:VCALENDAR
VERSION:2.0
PRODID:-//Selvhjelp Norge - ECPv6.15.20//NONSGML v1.0//EN
CALSCALE:GREGORIAN
METHOD:PUBLISH
X-ORIGINAL-URL:https://www.selvhjelp.no
X-WR-CALDESC:Arrangement for Selvhjelp Norge
REFRESH-INTERVAL;VALUE=DURATION:PT1H
X-Robots-Tag:noindex
X-PUBLISHED-TTL:PT1H
BEGIN:VTIMEZONE
TZID:Europe/Oslo
BEGIN:DAYLIGHT
TZOFFSETFROM:+0100
TZOFFSETTO:+0200
TZNAME:CEST
DTSTART:20210328T010000
END:DAYLIGHT
BEGIN:STANDARD
TZOFFSETFROM:+0200
TZOFFSETTO:+0100
TZNAME:CET
DTSTART:20211031T010000
END:STANDARD
BEGIN:DAYLIGHT
TZOFFSETFROM:+0100
TZOFFSETTO:+0200
TZNAME:CEST
DTSTART:20220327T010000
END:DAYLIGHT
BEGIN:STANDARD
TZOFFSETFROM:+0200
TZOFFSETTO:+0100
TZNAME:CET
DTSTART:20221030T010000
END:STANDARD
BEGIN:DAYLIGHT
TZOFFSETFROM:+0100
TZOFFSETTO:+0200
TZNAME:CEST
DTSTART:20230326T010000
END:DAYLIGHT
BEGIN:STANDARD
TZOFFSETFROM:+0200
TZOFFSETTO:+0100
TZNAME:CET
DTSTART:20231029T010000
END:STANDARD
BEGIN:DAYLIGHT
TZOFFSETFROM:+0100
TZOFFSETTO:+0200
TZNAME:CEST
DTSTART:20240331T010000
END:DAYLIGHT
BEGIN:STANDARD
TZOFFSETFROM:+0200
TZOFFSETTO:+0100
TZNAME:CET
DTSTART:20241027T010000
END:STANDARD
END:VTIMEZONE
BEGIN:VEVENT
DTSTART;TZID=Europe/Oslo:20230202T090000
DTEND;TZID=Europe/Oslo:20230203T150000
DTSTAMP:20260420T042553
CREATED:20230112T130305Z
LAST-MODIFIED:20230322T121549Z
UID:10000060-1675328400-1675436400@www.selvhjelp.no
SUMMARY:Bergen: Vil du lære om selvhjelpsgrupper og hvordan du setter dem i gang?
DESCRIPTION:Kurset skal bidra til at du oppnår basiskunnskap og ferdigheter for å sette i gang selvhjelpsgrupper på en god måte\, og blir bevisst din rolle som igangsetter. \nVi inviterer deg til to aktive dager med korte forelesninger\, dialoger og øvelser\, både i plenum\, individuelt og i mindre grupper. \nHva skal vi jobbe med på kurset? \n\nSelvhjelpsgruppe\nVerktøy for selvhjelp og god kommunikasjon i selvhjelpsgrupper\nIgangsetters rolle og oppgaver\, og “meg selv» som igangsetter\nDe første møtene og utfordringer i slike grupper\n\nKurset er gratis for deltakere\, kursbevis ved fullført kurs.\nKurshefte sendes ut elektronisk i forkant. \nServering: kaffe/te\, lønsj. \nFor spørsmål og påmelding kontakt: Kari Witzøe\, daglig leder distriktskontor for Vestland\, 952 27 631. \nPåmeldingsfrist: 29. januar. \nVelkommen!\nLast opp invitasjonen her.
URL:https://www.selvhjelp.no/arrangement/bergen-vil-du-laere-om-selvhjelpsgrupper-og-hvordan-du-setter-dem-i-gang/
LOCATION:FFO Vestland\, Vestre Strømkai 7\, Bergen\, 5008\, Norway
CATEGORIES:Vestland
ATTACH;FMTTYPE=image/jpeg:https://www.selvhjelp.no/wp-content/uploads/2022/02/annie-spratt-hCb3lIB8L8E-unsplash-1-scaled.jpg
ORGANIZER;CN="Selvhjelp Norges distriktskontor for Vestland":MAILTO:kariw@selvhjelp.no
END:VEVENT
BEGIN:VEVENT
DTSTART;TZID=Europe/Oslo:20221206T120000
DTEND;TZID=Europe/Oslo:20221206T153000
DTSTAMP:20260420T042553
CREATED:20221114T113353Z
LAST-MODIFIED:20221114T114615Z
UID:10000077-1670328000-1670340600@www.selvhjelp.no
SUMMARY:Samling om selvhjelpsgupper i Vestland
DESCRIPTION:Velkommen til en samling om selvhjelpsgrupper!\nHva skal vi gjøre sammen?   \n\nHøre et foredrag til inspirasjon og ettertanke. \nUtforske erfaringer og spørsmål rundt selvhjelpsgrupper\n\nSend gjerne spørsmål og problemstillinger som du ønsker tatt opp\, i forkant).  \nUtbytte?  \n\nBygge nettverk og lære av hverandre \nFormidle hva dere ønske og trenger fra Selvhjelp Norge for å lykkes med oppstart og drift av gode gruppetilbud i organisasjoner\, tiltak og ellers. \nBli bedre kjent med LINK Bergen og omegn. \n\nHvem inviterer vi?  \n\nOrganisasjoner og tiltak som tilbyr ulike typer samtalegrupper for sine medlemmer\, brukere og målgrupper. \nIgangsettere/gruppeledere av selvhjelpsgrupper. \nDeltakere i selvhjelpsgrupper. \n\nGjennomføring  \nVi arrangerer to like samlinger: \n\nPå dagtid 6/12 – kl. 12.00-15.30\nPå kveldstid 8/12 – kl. 17.00-20.30\n\nGi beskjed om du vil delta på dagtid eller kveldsstid når du melder deg på. \nPåmelding: \ninnen 30.11.22 til Selvhjelp Norge\, Vestland – Kari Witzøe på telefon 952 27 631 eller e-post: kariw@selvhjelp.no. \n  \nDet er gratis å delta. Det blir enkel servering. \nLast opp invitasjonen her. \n 
URL:https://www.selvhjelp.no/arrangement/samling-om-selvhjelpsgupper-i-vestland/
LOCATION:FFO Vestland\, Vestre Strømkai 7\, Bergen\, 5008\, Norway
CATEGORIES:Vestland
ATTACH;FMTTYPE=image/jpeg:https://www.selvhjelp.no/wp-content/uploads/2022/02/andreea-avramescu-wR56AUlEsE4-unsplash-scaled.jpg
ORGANIZER;CN="Selvhjelp Norges Distriktskontor for Vestland":MAILTO:kariw@selvhjelp.no
END:VEVENT
END:VCALENDAR