BEGIN:VCALENDAR
VERSION:2.0
PRODID:-//Selvhjelp Norge - ECPv6.15.20//NONSGML v1.0//EN
CALSCALE:GREGORIAN
METHOD:PUBLISH
X-WR-CALNAME:Selvhjelp Norge
X-ORIGINAL-URL:https://www.selvhjelp.no
X-WR-CALDESC:Arrangement for Selvhjelp Norge
REFRESH-INTERVAL;VALUE=DURATION:PT1H
X-Robots-Tag:noindex
X-PUBLISHED-TTL:PT1H
BEGIN:VTIMEZONE
TZID:Europe/Oslo
BEGIN:DAYLIGHT
TZOFFSETFROM:+0100
TZOFFSETTO:+0200
TZNAME:CEST
DTSTART:20210328T010000
END:DAYLIGHT
BEGIN:STANDARD
TZOFFSETFROM:+0200
TZOFFSETTO:+0100
TZNAME:CET
DTSTART:20211031T010000
END:STANDARD
BEGIN:DAYLIGHT
TZOFFSETFROM:+0100
TZOFFSETTO:+0200
TZNAME:CEST
DTSTART:20220327T010000
END:DAYLIGHT
BEGIN:STANDARD
TZOFFSETFROM:+0200
TZOFFSETTO:+0100
TZNAME:CET
DTSTART:20221030T010000
END:STANDARD
BEGIN:DAYLIGHT
TZOFFSETFROM:+0100
TZOFFSETTO:+0200
TZNAME:CEST
DTSTART:20230326T010000
END:DAYLIGHT
BEGIN:STANDARD
TZOFFSETFROM:+0200
TZOFFSETTO:+0100
TZNAME:CET
DTSTART:20231029T010000
END:STANDARD
BEGIN:DAYLIGHT
TZOFFSETFROM:+0100
TZOFFSETTO:+0200
TZNAME:CEST
DTSTART:20240331T010000
END:DAYLIGHT
BEGIN:STANDARD
TZOFFSETFROM:+0200
TZOFFSETTO:+0100
TZNAME:CET
DTSTART:20241027T010000
END:STANDARD
END:VTIMEZONE
BEGIN:VEVENT
DTSTART;TZID=Europe/Oslo:20230223T103000
DTEND;TZID=Europe/Oslo:20230301T150000
DTSTAMP:20260420T001559
CREATED:20230106T111635Z
LAST-MODIFIED:20230322T121532Z
UID:10000059-1677148200-1677682800@www.selvhjelp.no
SUMMARY:Oslo: Seminar om selvhjelp
DESCRIPTION:På seminaret vil du få innsikt i hvorfor og hvordan selvhjelp kan være nyttig kunnskap for økt mestring av livet. Du vil også lære om selvhjelpsgrupper og hvordan slike fellesskap kan startes opp. Videre vil vi snakke om muligheter for samarbeid lokalt. \nSeminaret går over to dager (23. februar og 1. mars) – det er nødvendig å delta begge dagene! \nTema:\n\nHvorfor selvhjelp og selvorganiserte selvhjelpsgrupper?\nHva er selvhjelpens bærende elementer? – Innhold i selvhjelpsarbeidet.\nHvordan utvikle muligheten lokalt? – Oppstart av selvhjelpsgrupper.\nIgangsetterrollen – Bidra til god oppstart\n\nPåmelding:\nPåmelding til dette seminaret gjøres innen 11. november her. \nLast opp invitasjonen her. \n\nVELKOMMEN! \nNB! Vi gjør oppmerksom på at Selvhjelp Norge har flyttet ut av lokalene på Majorstua og at LINK Oslo har flyttet til nye lokaler i Oslo sentrum der seminaret holdes.
URL:https://www.selvhjelp.no/arrangement/oslo-seminar-om-selvhjelp/
LOCATION:Lilletorget 1\, 0184 Oslo\, Lilletorget 1\, Oslo\, 0184\, Norway
CATEGORIES:Oslo,Viken
ATTACH;FMTTYPE=image/jpeg:https://www.selvhjelp.no/wp-content/uploads/2022/02/Arrangement_kaffepause-1024x683-1.jpg
ORGANIZER;CN="Selvhjelp Norges distriktskontor for Oslo og Viken%2C eksklusive Buskerud":MAILTO:ingerberit@selvhjelp.no
END:VEVENT
BEGIN:VEVENT
DTSTART;TZID=Europe/Oslo:20221115T090000
DTEND;TZID=Europe/Oslo:20221116T150000
DTSTAMP:20260420T001559
CREATED:20220725T102536Z
LAST-MODIFIED:20220926T120756Z
UID:10000105-1668502800-1668610800@www.selvhjelp.no
SUMMARY:Oslo: Seminar om selvhjelp
DESCRIPTION:På seminaret vil du få innsikt i hvorfor og hvordan selvhjelp kan være nyttig kunnskap for økt mestring av livet. Du vil også lære om selvhjelpsgrupper og hvordan slike fellesskap kan startes opp. Videre vil vi snakke om muligheter for samarbeid lokalt. \nSeminaret går over to dager – det er nødvendig å delta begge dagene! \nTema:\n\nHvorfor selvhjelp og selvorganiserte selvhjelpsgrupper?\nHva er selvhjelpens bærende elementer? – Innhold i selvhjelpsarbeidet.\nHvordan utvikle muligheten lokalt? – Oppstart av selvhjelpsgrupper.\nIgangsetterrollen – Bidra til god oppstart\n\nPåmelding:\nPåmelding til dette seminaret gjøres innen 11. november – her. \nLast opp invitasjonen her. \n\nVELKOMMEN!
URL:https://www.selvhjelp.no/arrangement/oslo-15-og-16-november-seminar-om-selvhjelp/
LOCATION:LINK Oslo – Senter for selvhjelp og mestring\, Lilletorget 1\, Oslo sentrum\, Oslo\, 0184\, Norway
CATEGORIES:Oslo,Tidl. Akershus og Østfold
ATTACH;FMTTYPE=image/jpeg:https://www.selvhjelp.no/wp-content/uploads/2022/02/kaboompics_Woman-taking-notes-scaled.jpg
ORGANIZER;CN="LINK Oslo - senter for selvhjelp og mestring":MAILTO:oddarne@linkoslo.no
END:VEVENT
BEGIN:VEVENT
DTSTART;TZID=Europe/Oslo:20221019T090000
DTEND;TZID=Europe/Oslo:20221020T150000
DTSTAMP:20260420T001559
CREATED:20220801T121853Z
LAST-MODIFIED:20220926T121022Z
UID:10000099-1666170000-1666278000@www.selvhjelp.no
SUMMARY:Oslo: Seminar om selvhjelp
DESCRIPTION:På seminaret vil du få innsikt i hvorfor og hvordan selvhjelp kan være nyttig kunnskap for økt mestring av livet. Du vil også lære om selvhjelpsgrupper og hvordan slike fellesskap kan startes opp. Videre vil vi snakke om muligheter for samarbeid lokalt. \nSeminaret går over to dager – det er nødvendig å delta begge dagene! \nTema:\n\nHvorfor selvhjelp og selvorganiserte selvhjelpsgrupper?\nHva er selvhjelpens bærende elementer? – Innhold i selvhjelpsarbeidet.\nHvordan utvikle muligheten lokalt? – Oppstart av selvhjelpsgrupper.\nIgangsetterrollen – Bidra til god oppstart\n\nPåmelding:\nPåmelding til dette seminaret gjøres her \nLast opp invitasjonen her \n\nVELKOMMEN!
URL:https://www.selvhjelp.no/arrangement/oslo-19-og-20-oktober-seminar-som-selvhjelp/
LOCATION:LINK Oslo – Senter for selvhjelp og mestring\, Lilletorget 1\, Oslo sentrum\, Oslo\, 0184\, Norway
CATEGORIES:Oslo,Tidl. Akershus og Østfold
ATTACH;FMTTYPE=image/jpeg:https://www.selvhjelp.no/wp-content/uploads/2022/02/nicole-honeywill-gruppe-BUVETE_191119-1024x731-1.jpg
ORGANIZER;CN="LINK Oslo - senter for selvhjelp og mestring":MAILTO:oddarne@linkoslo.no
END:VEVENT
BEGIN:VEVENT
DTSTART;TZID=Europe/Oslo:20220906T090000
DTEND;TZID=Europe/Oslo:20220907T150000
DTSTAMP:20260420T001559
CREATED:20220725T100114Z
LAST-MODIFIED:20220819T083903Z
UID:10000107-1662454800-1662562800@www.selvhjelp.no
SUMMARY:Oslo 6. og 7. september: Seminar om selvhjelp
DESCRIPTION:På seminaret vil du få innsikt i hvorfor og hvordan selvhjelp kan være nyttig kunnskap for økt mestring av livet. Du vil også lære om selvhjelpsgrupper og hvordan slike fellesskap kan startes opp. Videre vil vi snakke om muligheter for samarbeid lokalt. \nSeminaret går over to dager – det er nødvendig å delta begge dagene! \nTema:\n\nHvorfor selvhjelp og selvorganiserte selvhjelpsgrupper?\nHva er selvhjelpens bærende elementer? – Innhold i selvhjelpsarbeidet.\nHvordan utvikle muligheten lokalt? – Oppstart av selvhjelpsgrupper.\nIgangsetterrollen – Bidra til god oppstart\n\nPåmelding:\nPåmelding til dette seminaret gjøres innen 1. september – her.\nGratis deltakelse. \nLast opp invitasjonen her. \n\nVELKOMMEN!
URL:https://www.selvhjelp.no/arrangement/oslo-6-og-7-september-seminar-om-selvhjelp/
LOCATION:LINK Oslo – Senter for selvhjelp og mestring\, Lilletorget 1\, Oslo sentrum\, Oslo\, 0184\, Norway
CATEGORIES:Oslo,Tidl. Akershus og Østfold
ATTACH;FMTTYPE=image/jpeg:https://www.selvhjelp.no/wp-content/uploads/2022/02/Arrangement_-Fa-deltakere-ved-bord-1024x680-1.jpg
ORGANIZER;CN="LINK Oslo - senter for selvhjelp og mestring":MAILTO:oddarne@linkoslo.no
END:VEVENT
BEGIN:VEVENT
DTSTART;TZID=Europe/Oslo:20220512T120000
DTEND;TZID=Europe/Oslo:20220512T130000
DTSTAMP:20260420T001559
CREATED:20220407T150219Z
LAST-MODIFIED:20220501T160415Z
UID:10000092-1652356800-1652360400@www.selvhjelp.no
SUMMARY:Oslo 12. mai: Hva er selvhjelp og selvhjelpsgrupper?
DESCRIPTION:Velkommen til informasjon om hva selvhjelp er og hvordan du kan starte opp selvhjelpsgrupper. \nInnhold \n\nHva er selvhjelp?\nRammer og prinsipper for en selvhjelpsgruppe\nOm å delta i en selvhjelpsgruppe\n\nPåmelding gjøres i lenken nedenfor. \nHar du spørsmål til dette arrangementet kan Odd Arne Eriksen kontaktes på e-post: oddarne@linkoslo.no eller på telefon 940 30 488. \nInvitasjonen kan du laste opp her. \n  \n 
URL:https://www.selvhjelp.no/arrangement/oslo-12-mai-hva-er-selvhjelp-og-selvhjelpsgrupper/
LOCATION:LINK Oslo – Senter for selvhjelp og mestring\, Lilletorget 1\, Oslo sentrum\, Oslo\, 0184\, Norway
CATEGORIES:Oslo
ATTACH;FMTTYPE=image/jpeg:https://www.selvhjelp.no/wp-content/uploads/2022/02/redd-5U_28ojjgms-unsplash-1-1-scaled.jpg
ORGANIZER;CN="LINK Oslo - senter for selvhjelp og mestring":MAILTO:oddarne@linkoslo.no
END:VEVENT
BEGIN:VEVENT
DTSTART;TZID=Europe/Oslo:20220510T180000
DTEND;TZID=Europe/Oslo:20220510T190000
DTSTAMP:20260420T001559
CREATED:20220323T085723Z
LAST-MODIFIED:20220407T145203Z
UID:10000082-1652205600-1652209200@www.selvhjelp.no
SUMMARY:Oslo 10. mai: Åpent hus - hva er selvhjelp og selvhjelpsgrupper?
DESCRIPTION:Velkommen til informasjon om hva selvhjelp er og hvordan du kan starte opp selvhjelpsgrupper. \nInnhold \n\nHva er selvhjelp?\nRammer og prinsipper for en selvhjelpsgruppe\nOm å delta i en selvhjelpsgruppe\n\nPåmelding gjøres i lenken nedenfor. \nHar du spørsmål til dette arrangementet kan Inger Berit Stene kontaktes på e-post: ingerberit@selvhjelp.no eller på telefon 467 78 204. \nInvitasjonen kan du laste opp her. \n  \n  \n 
URL:https://www.selvhjelp.no/arrangement/oslo-10mai-apent-hus-selvhjelp-og-selvhjelpsgrupper/
LOCATION:LINK Oslo – Senter for selvhjelp og mestring\, Lilletorget 1\, Oslo sentrum\, Oslo\, 0184\, Norway
CATEGORIES:Oslo,Tidl. Akershus og Østfold
ATTACH;FMTTYPE=image/jpeg:https://www.selvhjelp.no/wp-content/uploads/2022/02/redd-5U_28ojjgms-unsplash-1-1-scaled.jpg
ORGANIZER;CN="Selvhjelp Norges distriktskontor for Oslo og Viken%2C eksklusive Buskerud":MAILTO:ingerberit@selvhjelp.no
END:VEVENT
BEGIN:VEVENT
DTSTART;TZID=Europe/Oslo:20220505T100000
DTEND;TZID=Europe/Oslo:20220505T150000
DTSTAMP:20260420T001600
CREATED:20220323T094724Z
LAST-MODIFIED:20220408T100137Z
UID:10000081-1651744800-1651762800@www.selvhjelp.no
SUMMARY:Lillestrøm 5. og 6. mai: Seminar om selvhjelp i praksis og oppstart av selvhjelpsgrupper
DESCRIPTION:Lurer du på hva selvhjelp er og hvordan sette igang selvhjelpsgrupper? \nVelkommen til seminar om selvhjelp i praksis og oppstart av selvhjelpsgrupper. \nPå seminaret vil du få innsikt i hvorfor og hvordan selvhjelp kan være nyttig kunnskap for økt mestring av livet. Du vil også lære om selvhjelpsgrupper og hvordan slike fellesskap kan startes opp. Videre vil vi snakke om muligheter for samarbeid lokalt. \nProgram \n\nHvorfor selvhjelp og selvorganiserte selvhjelpsgrupper?\nHva er selvhjelpens bærende elementer? – Innhold i selvhjelpsarbeidet.\nHvordan utvikle muligheten lokalt? – Oppstart av selvhjelpsgrupper.\nIgangsetterrollen – Bidra til god oppstart\n\nSeminaret går over to dager – det er nødvendig å delta begge dagene! \nSeminaret er gratis\, det serveres mat og drikke. \n\nSpørsmål kan rettes til:  Selvhjelp Norge ved Inger Berit Stene på e-post: ingerberit@selvhjelp.no eller på telefon: 467 78 204 . \nFor påmelding benytt påmeldingslenken nedenfor. \nLast opp invitasjonen her.
URL:https://www.selvhjelp.no/arrangement/lillestrom-5-og-6-mai-seminar-om-selvhjelp-i-praksis-og-oppstart-av-selvhjelpsgrupper/
LOCATION:Lillestrøm Kultursenter\, Kirkegata 11\, Lillestrøm\, 200\, Norway
CATEGORIES:Tidl. Akershus og Østfold,Viken
ATTACH;FMTTYPE=image/jpeg:https://www.selvhjelp.no/wp-content/uploads/2022/02/startup-g1d707388e_1920.jpg
END:VEVENT
END:VCALENDAR