BEGIN:VCALENDAR
VERSION:2.0
PRODID:-//Selvhjelp Norge - ECPv6.15.20//NONSGML v1.0//EN
CALSCALE:GREGORIAN
METHOD:PUBLISH
X-WR-CALNAME:Selvhjelp Norge
X-ORIGINAL-URL:https://www.selvhjelp.no
X-WR-CALDESC:Arrangement for Selvhjelp Norge
REFRESH-INTERVAL;VALUE=DURATION:PT1H
X-Robots-Tag:noindex
X-PUBLISHED-TTL:PT1H
BEGIN:VTIMEZONE
TZID:Europe/Oslo
BEGIN:DAYLIGHT
TZOFFSETFROM:+0100
TZOFFSETTO:+0200
TZNAME:CEST
DTSTART:20210328T010000
END:DAYLIGHT
BEGIN:STANDARD
TZOFFSETFROM:+0200
TZOFFSETTO:+0100
TZNAME:CET
DTSTART:20211031T010000
END:STANDARD
BEGIN:DAYLIGHT
TZOFFSETFROM:+0100
TZOFFSETTO:+0200
TZNAME:CEST
DTSTART:20220327T010000
END:DAYLIGHT
BEGIN:STANDARD
TZOFFSETFROM:+0200
TZOFFSETTO:+0100
TZNAME:CET
DTSTART:20221030T010000
END:STANDARD
BEGIN:DAYLIGHT
TZOFFSETFROM:+0100
TZOFFSETTO:+0200
TZNAME:CEST
DTSTART:20230326T010000
END:DAYLIGHT
BEGIN:STANDARD
TZOFFSETFROM:+0200
TZOFFSETTO:+0100
TZNAME:CET
DTSTART:20231029T010000
END:STANDARD
END:VTIMEZONE
BEGIN:VEVENT
DTSTART;TZID=Europe/Oslo:20221123T173000
DTEND;TZID=Europe/Oslo:20221123T193000
DTSTAMP:20260420T072732
CREATED:20220815T082750Z
LAST-MODIFIED:20221104T085102Z
UID:10000114-1669224600-1669231800@www.selvhjelp.no
SUMMARY:Tromsø: Seminar om selvhjelp og selvhjelpsgrupper
DESCRIPTION:Velkommen til seminar om selvhjelp og oppstart av selvorganiserte selvhjelpsgrupper.\nTromsøværingen Pål Berger forteller om sin vei ut av rusen ved bruk av selvhjelp og selvhjelpsgruppe. \nMålgruppe\nSeminaret er for deg som ønsker å bruke selvhjelp i eget liv\, og for deg som er nysgjerrig på hva en selvhjelpsgruppe er – enten å gå i en gruppe selv eller etablere en gruppe for andre. \nDet er gratis å delta. \nTema for seminaret\n\nHva er selvhjelp\, når bruker vi det og hvordan?\nHva er en selvhjelpsgruppe?\nHvilke prinsipper og rammer bør ligge til grunn for en gruppe?\nHvordan kan en gruppe styre seg selv?\nPraktisk oppstart av grupper.\nRollen som igangsetter av grupper.\n\n Påmelding: innen 18. november via denne lenken eller lengre ned på denne siden. \nEr det noe du lurer på?\nLizett Skottestad\, lizett@selvhjelp.no\, 413 33 186 \nLast opp invitasjonen her
URL:https://www.selvhjelp.no/arrangement/tromso-23-november-seminar-om-selvhjelp-og-selvhjelpsgrupper/
LOCATION:Tromsø bibliotek\, Grønnegata 94\, Møterom plan 0\, Tromsø\, 9008\, Norway
CATEGORIES:Troms og Finnmark
ATTACH;FMTTYPE=image/jpeg:https://www.selvhjelp.no/wp-content/uploads/2019/05/Kurs-1024x682-1.jpg
ORGANIZER;CN="Selvhjelp Norge v/Lizett Ulrika Skottestad":MAILTO:lizett@selvhjelp.no
END:VEVENT
BEGIN:VEVENT
DTSTART;TZID=Europe/Oslo:20221025T090000
DTEND;TZID=Europe/Oslo:20221026T150000
DTSTAMP:20260420T072732
CREATED:20220815T080530Z
LAST-MODIFIED:20220926T120931Z
UID:10000115-1666688400-1666796400@www.selvhjelp.no
SUMMARY:Alta: Igangsetterkurs
DESCRIPTION:Velkommen til kurs om selvhjelp og oppstart av selvorganiserte selvhjelpsgrupper.\nMålgruppe\nKurset er for deg som ønsker å bruke selvhjelp i eget liv\, og for deg som er nysgjerrig på hva en selvhjelpsgruppe er – enten for å gå i en gruppe selv eller etablere en gruppe for andre. \nDet er gratis å delta. Seminaret går over to dager\, og det er obligatorisk å delta på begge dagene. \nInnhold\n\nHva er selvhjelp\, når bruker vi det og hvordan?\nPresentasjon av ulike selvhjelpsverktøy\nHva er en selvhjelpgruppe og hvilke prinsipper og rammer bør ligge til grunn?\nHvordan kan en gruppe styre seg selv?\nPraktisk oppstart av grupper.\nRollen som igangsetter av grupper.\nUtfordringer og løsninger.\nLokalt samarbeid.\n\nEr det noe du lurer på?\nlizett@selvhjelp.no\, 413 33 186\nTirilKloster.Skogland@alta.kommune.no\, 900 69 319 \nPåmelding innen 21. oktober HER. \nLast opp invitasjonen her.
URL:https://www.selvhjelp.no/arrangement/alta-25-og-26-oktober-igangsetterkurs/
LOCATION:Alta omsorgssenter\, Follumsvei 17\, Alta\, 9510\, Norway
CATEGORIES:Troms og Finnmark
ATTACH;FMTTYPE=image/jpeg:https://www.selvhjelp.no/wp-content/uploads/2022/02/Arrangement_kaffepause-1024x683-1.jpg
ORGANIZER;CN="Selvhjelp Norge v/Lizett Ulrika Skottestad":MAILTO:lizett@selvhjelp.no
END:VEVENT
BEGIN:VEVENT
DTSTART;TZID=Europe/Oslo:20220920T180000
DTEND;TZID=Europe/Oslo:20220920T200000
DTSTAMP:20260420T072732
CREATED:20220809T091143Z
LAST-MODIFIED:20220901T082856Z
UID:10000098-1663696800-1663704000@www.selvhjelp.no
SUMMARY:Brønnøy 20. september: Seminar om selvhjelp og selvhjelpsgrupper
DESCRIPTION:Målgruppe\nSeminaret er for deg som ønsker å bruke selvhjelp i eget liv\, og for deg som er nysgjerrig på hva en selvhjelpsgruppe er – enten å gå i en gruppe selv eller etablere en gruppe for andre. \nTema for seminaret \n\nHva er selvhjelp\, når bruker vi det og hvordan?\nHva er en selvhjelpgruppe?\nHvilke prinsipper og rammer bør ligge til grunn for en gruppe?\nHvordan kan en gruppe styre seg selv?\n\nLurer du på noe på noe? Kontakt arrangørene. \nArrangementet er gratis. \nPåmelding innen 16. september HER. \nLast opp invitasjonen her.
URL:https://www.selvhjelp.no/arrangement/bronnoy-20-september-inspirasjonsseminar/
LOCATION:Brønnøy Frivilligsentral\, Innerveien 42\, Brønnøysund\, Norway
CATEGORIES:Troms og Finnmark
ATTACH;FMTTYPE=image/jpeg:https://www.selvhjelp.no/wp-content/uploads/2021/07/helena-lopes-PGnqT0rXWLs-unsplash-scaled.jpg
ORGANIZER;CN="Selvhjelp Norge v/Lizett Ulrika Skottestad":MAILTO:lizett@selvhjelp.no
END:VEVENT
END:VCALENDAR