BEGIN:VCALENDAR
VERSION:2.0
PRODID:-//Selvhjelp Norge - ECPv6.15.20//NONSGML v1.0//EN
CALSCALE:GREGORIAN
METHOD:PUBLISH
X-WR-CALNAME:Selvhjelp Norge
X-ORIGINAL-URL:https://www.selvhjelp.no
X-WR-CALDESC:Arrangement for Selvhjelp Norge
REFRESH-INTERVAL;VALUE=DURATION:PT1H
X-Robots-Tag:noindex
X-PUBLISHED-TTL:PT1H
BEGIN:VTIMEZONE
TZID:Europe/Oslo
BEGIN:DAYLIGHT
TZOFFSETFROM:+0100
TZOFFSETTO:+0200
TZNAME:CEST
DTSTART:20210328T010000
END:DAYLIGHT
BEGIN:STANDARD
TZOFFSETFROM:+0200
TZOFFSETTO:+0100
TZNAME:CET
DTSTART:20211031T010000
END:STANDARD
BEGIN:DAYLIGHT
TZOFFSETFROM:+0100
TZOFFSETTO:+0200
TZNAME:CEST
DTSTART:20220327T010000
END:DAYLIGHT
BEGIN:STANDARD
TZOFFSETFROM:+0200
TZOFFSETTO:+0100
TZNAME:CET
DTSTART:20221030T010000
END:STANDARD
BEGIN:DAYLIGHT
TZOFFSETFROM:+0100
TZOFFSETTO:+0200
TZNAME:CEST
DTSTART:20230326T010000
END:DAYLIGHT
BEGIN:STANDARD
TZOFFSETFROM:+0200
TZOFFSETTO:+0100
TZNAME:CET
DTSTART:20231029T010000
END:STANDARD
END:VTIMEZONE
BEGIN:VEVENT
DTSTART;TZID=Europe/Oslo:20221115T090000
DTEND;TZID=Europe/Oslo:20221116T150000
DTSTAMP:20260420T054012
CREATED:20220926T110732Z
LAST-MODIFIED:20220926T111047Z
UID:10000112-1668502800-1668610800@www.selvhjelp.no
SUMMARY:Ål: Selvhjelp og igangsetting av selvhjelpsgrupper
DESCRIPTION:Målgruppe:\nKurset er for deg som ønsker å være en ressursperson for selvhjelpsarbeidet i ditt lokalsamfunn. Du vil tilegne deg kunnskap om hvorfor og hvordan selvhjelp kan være nyttig som forståelse og verktøy – en mulighet til mestring i ditt møte med mennesker\, og i DIN egen hverdag. Samt lære om selvhjelpsgrupper\, og hvordan grupper kan startes. \nInnhold: \n\nHvorfor selvhjelp og selvhjelpsgrupper?\nSelvhjelp som grunnforståelse og verktøy\, uansett rolle?\nHvordan få til i trygge fellesskap i praksis?\nIgangsetterrollen\, og om å gjøre seg selv overflødig.\n\nDet legges opp til dialog og aktiv deltagelse begge dager. Kurset går over to dager – det er nødvendig å delta begge dagene! \nKurset er gratis. Lunsj blir servert. Deltakere dekker selv evt. reise- og overnatting. \nPåmeldingsfrist: 01.11.2022. Begrenset antall plasser – førstemann til mølla! Påmelding via: Kurs i Hallingdal. \nArrangør for dagene er Hallinghelse i samarbeid med Selvhjelp i Hallingdal og Selvhjelp Norge. Dagene ledes av Anne Grete Tandberg fra Selvhjelp Norge. \nVed spørsmål ta kontakt med Ragna Torkelsgard: ragna.torkelsgard@hallingdal.no / 950 69 313 eller Anne Grete: annegrete@selvhjelp.no / 483 56 038. \nVELKOMMEN!
URL:https://www.selvhjelp.no/arrangement/al-selvhjelp-og-igangsetting-av-selvhjelpsgrupper/
LOCATION:Ål Kulturhus\, Myren 40\, Ål\, 3570\, Norway
CATEGORIES:Innlandet,Tidl. Buskerud
ATTACH;FMTTYPE=image/jpeg:https://www.selvhjelp.no/wp-content/uploads/2022/01/krakenimages-Y5bvRlcCx8k-unsplash.jpg
ORGANIZER;CN="Selvhjelp Norge v/Anne Grete Tandberg":MAILTO:annegrete@selvhjelp.no
END:VEVENT
END:VCALENDAR