BEGIN:VCALENDAR
VERSION:2.0
PRODID:-//Selvhjelp Norge - ECPv6.15.20//NONSGML v1.0//EN
CALSCALE:GREGORIAN
METHOD:PUBLISH
X-ORIGINAL-URL:https://www.selvhjelp.no
X-WR-CALDESC:Arrangement for Selvhjelp Norge
REFRESH-INTERVAL;VALUE=DURATION:PT1H
X-Robots-Tag:noindex
X-PUBLISHED-TTL:PT1H
BEGIN:VTIMEZONE
TZID:Europe/Oslo
BEGIN:DAYLIGHT
TZOFFSETFROM:+0100
TZOFFSETTO:+0200
TZNAME:CEST
DTSTART:20210328T010000
END:DAYLIGHT
BEGIN:STANDARD
TZOFFSETFROM:+0200
TZOFFSETTO:+0100
TZNAME:CET
DTSTART:20211031T010000
END:STANDARD
BEGIN:DAYLIGHT
TZOFFSETFROM:+0100
TZOFFSETTO:+0200
TZNAME:CEST
DTSTART:20220327T010000
END:DAYLIGHT
BEGIN:STANDARD
TZOFFSETFROM:+0200
TZOFFSETTO:+0100
TZNAME:CET
DTSTART:20221030T010000
END:STANDARD
BEGIN:DAYLIGHT
TZOFFSETFROM:+0100
TZOFFSETTO:+0200
TZNAME:CEST
DTSTART:20230326T010000
END:DAYLIGHT
BEGIN:STANDARD
TZOFFSETFROM:+0200
TZOFFSETTO:+0100
TZNAME:CET
DTSTART:20231029T010000
END:STANDARD
END:VTIMEZONE
BEGIN:VEVENT
DTSTART;TZID=Europe/Oslo:20220609T173000
DTEND;TZID=Europe/Oslo:20220609T193000
DTSTAMP:20260420T050501
CREATED:20220407T143040Z
LAST-MODIFIED:20220607T114635Z
UID:10000093-1654795800-1654803000@www.selvhjelp.no
SUMMARY:9. juni 2022: Digital møteplass for pårørende
DESCRIPTION:Strever du som pårørende?\nMange opplever at det å stå i en pårørendesituasjon påvirker helse\, arbeid og familieliv. Det kan være vanskelig å finne rom til seg selv\, å strekke til eller sette grenser når det er nødvendig. Det kan dukke opp mange reaksjoner og man kan føle seg maktesløs og alene. \nSelvhjelp Norge inviterer til en digital møteplass for å informere om selvhjelp og dele erfaringer fra selvhjelpsgrupper. Vi bidrar til å starte opp grupper i etterkant av møtet for deg som er interessert. \nInnhold \n\nInnlegg om pårørendesituasjonen\nErfaringer fra deltakelse i en selvhjelpsgruppe\nSelvhjelpsgrupper – hva og hvordan\nMulighet for å melde interesse for å delta i en selvhjelpsgruppe.\n\nPåmeldingsfrist: 6. juni. \nFor spørsmål\, kontakt Anne Grete Tandberg. \nLast opp invitasjonen her. \n\nDu får en kvittering på epost når du har meldt deg på nedenfor. Dersom du ikke mottar denne\, kan du sjekke søppel-/spamboksen din.\nLenke til det digitale møterommet blir sendt ut i forkant av arrangementet. Dersom du ikke mottar denne\, kan du sjekke søppel-/spamboksen din.\n \n\nLenke til møterommet er sendt ut 7. juni\, men du kan også følge den her: \n https://us02web.zoom.us/j/89487385858?pwd=emhFckQ0RDF4TW5rNnJSQUhQV2lmUT09&from=addon  \nDersom du får spørsmål om møte ID eller passord:  Meeting ID: 894 8738 5858   Passord 334095  \n\nDelta i en selvhjelpsgruppe? \nHar du ikke anledning til å delta på møtet\, kan du likevel melde interesse for å delta i en selvhjelpgruppe\, følg lenken her. Skjemaet vil være åpent i 14 dager etter arrangementet\, og deretter tar vi kontakt med deg.
URL:https://www.selvhjelp.no/arrangement/9-juni-2022-digital-moteplass-for-parorende/
LOCATION:Digitalt møte
ATTACH;FMTTYPE=image/jpeg:https://www.selvhjelp.no/wp-content/uploads/2021/07/helena-lopes-PGnqT0rXWLs-unsplash-scaled.jpg
ORGANIZER;CN="Selvhjelp Norge v/Anne Grete Tandberg":MAILTO:annegrete@selvhjelp.no
END:VEVENT
BEGIN:VEVENT
DTSTART;TZID=Europe/Oslo:20220421T090000
DTEND;TZID=Europe/Oslo:20220421T160000
DTSTAMP:20260420T050501
CREATED:20210922T172721Z
LAST-MODIFIED:20220419T122439Z
UID:10000072-1650531600-1650556800@www.selvhjelp.no
SUMMARY:Skien 21. og 22. april 2022: Seminar om selvhjelp og oppstart av selvhjelpsgrupper
DESCRIPTION:Velkommen til seminar om selvhjelp og oppstart av selvorganiserte selvhjelpsgrupper. \n\nHvorfor og hvordan selvhjelp kan være nyttig i hverdagen og i møte med andre?\nHva er og hvorfor selvhjelpsgrupper som et nyttig verksted?\nLokale muligheter for tilrettelegging og samarbeid videre.\n\nDagene dreier seg om selvhjelp som forståelse og verktøy uansett rolle eller selvhjelp i eget liv. Som en del av ditt arbeid med tilrettelegging om å få til trygge fellesskap i praksis\, oppstarter rollen i en selvhjelpsgruppe og lokalt selvhjelpsarbeid. Det legges opp til dialog og aktiv deltakelse legger dager. \nSeminaret går over to dager – det er nødvendig å delta begge dagene.\nGratis deltakelse. Lunsj blir servert. \nArrangementet er et samarbeid mellom Lærings- og mestringssenteret i Skien\, Link Vestfold og Telemark og Selvhjelp Norges distriktskontor for Vestfold og Telemark og Buskerud i Viken. \nPåmelding:\nFrist for påmelding er onsdag 20. april.\nPåmelding til dette arrangementet gjøres ved å benytte påmeldingslenken lengre ned på siden.\n \nLast ned invitasjonen her \nSeminaret er åpent for alle i fylket – velkommen!
URL:https://www.selvhjelp.no/arrangement/skien-21-og-22-april-2022-seminar-om-selvhjelp-og-oppstart-av-selvhjelpsgrupper/
LOCATION:Lærings- og mestringssenteret\, Skien sykehus\, bygg 70\, Ulefosvegen 49\, Skien\, 3730\, Norge
CATEGORIES:Tidl. Buskerud,Vestfold og Telemark
ATTACH;FMTTYPE=image/jpeg:https://www.selvhjelp.no/wp-content/uploads/2022/02/Arrangement_kaffepause-1024x683-1.jpg
ORGANIZER;CN="Selvhjelp Norges distriktskontor for Vestfold og Telemark og Buskerud i Viken":MAILTO:annegrete@selvhjelp.no
END:VEVENT
END:VCALENDAR