BEGIN:VCALENDAR
VERSION:2.0
PRODID:-//Selvhjelp Norge - ECPv6.15.20//NONSGML v1.0//EN
CALSCALE:GREGORIAN
METHOD:PUBLISH
X-WR-CALNAME:Selvhjelp Norge
X-ORIGINAL-URL:https://www.selvhjelp.no
X-WR-CALDESC:Arrangement for Selvhjelp Norge
REFRESH-INTERVAL;VALUE=DURATION:PT1H
X-Robots-Tag:noindex
X-PUBLISHED-TTL:PT1H
BEGIN:VTIMEZONE
TZID:Europe/Oslo
BEGIN:DAYLIGHT
TZOFFSETFROM:+0100
TZOFFSETTO:+0200
TZNAME:CEST
DTSTART:20210328T010000
END:DAYLIGHT
BEGIN:STANDARD
TZOFFSETFROM:+0200
TZOFFSETTO:+0100
TZNAME:CET
DTSTART:20211031T010000
END:STANDARD
BEGIN:DAYLIGHT
TZOFFSETFROM:+0100
TZOFFSETTO:+0200
TZNAME:CEST
DTSTART:20220327T010000
END:DAYLIGHT
BEGIN:STANDARD
TZOFFSETFROM:+0200
TZOFFSETTO:+0100
TZNAME:CET
DTSTART:20221030T010000
END:STANDARD
BEGIN:DAYLIGHT
TZOFFSETFROM:+0100
TZOFFSETTO:+0200
TZNAME:CEST
DTSTART:20230326T010000
END:DAYLIGHT
BEGIN:STANDARD
TZOFFSETFROM:+0200
TZOFFSETTO:+0100
TZNAME:CET
DTSTART:20231029T010000
END:STANDARD
END:VTIMEZONE
BEGIN:VEVENT
DTSTART;TZID=Europe/Oslo:20221025T090000
DTEND;TZID=Europe/Oslo:20221026T150000
DTSTAMP:20260420T072541
CREATED:20220815T080530Z
LAST-MODIFIED:20220926T120931Z
UID:10000115-1666688400-1666796400@www.selvhjelp.no
SUMMARY:Alta: Igangsetterkurs
DESCRIPTION:Velkommen til kurs om selvhjelp og oppstart av selvorganiserte selvhjelpsgrupper.\nMålgruppe\nKurset er for deg som ønsker å bruke selvhjelp i eget liv\, og for deg som er nysgjerrig på hva en selvhjelpsgruppe er – enten for å gå i en gruppe selv eller etablere en gruppe for andre. \nDet er gratis å delta. Seminaret går over to dager\, og det er obligatorisk å delta på begge dagene. \nInnhold\n\nHva er selvhjelp\, når bruker vi det og hvordan?\nPresentasjon av ulike selvhjelpsverktøy\nHva er en selvhjelpgruppe og hvilke prinsipper og rammer bør ligge til grunn?\nHvordan kan en gruppe styre seg selv?\nPraktisk oppstart av grupper.\nRollen som igangsetter av grupper.\nUtfordringer og løsninger.\nLokalt samarbeid.\n\nEr det noe du lurer på?\nlizett@selvhjelp.no\, 413 33 186\nTirilKloster.Skogland@alta.kommune.no\, 900 69 319 \nPåmelding innen 21. oktober HER. \nLast opp invitasjonen her.
URL:https://www.selvhjelp.no/arrangement/alta-25-og-26-oktober-igangsetterkurs/
LOCATION:Alta omsorgssenter\, Follumsvei 17\, Alta\, 9510\, Norway
CATEGORIES:Troms og Finnmark
ATTACH;FMTTYPE=image/jpeg:https://www.selvhjelp.no/wp-content/uploads/2022/02/Arrangement_kaffepause-1024x683-1.jpg
ORGANIZER;CN="Selvhjelp Norge v/Lizett Ulrika Skottestad":MAILTO:lizett@selvhjelp.no
END:VEVENT
END:VCALENDAR